BEGIN:VCALENDAR
PRODID:-//PUBBLE//agenda//NL
VERSION:2.0
METHOD:PUBLISH
BEGIN:VEVENT
DTSTART:20211121T090000Z
DTEND:20211121T100000Z
DTSTAMP:20260424T164819Z
UID:c37dff4c-71ef-476e-8447-e700a6efcc0b
CREATED:20260424T164819Z
NAME:Grote rondleiding Buitenplaats Doornburgh varnws.nl
X-WR-CALNAME:Grote rondleiding Buitenplaats Doornburgh
X-ALT-DESC;FMTTYPE=text/html:<a href='/stichtsevecht/agenda/2021/11/21/grote-rondleiding-buitenplaats-doornburgh-27875'>/stichtsevecht/agenda/2021/11/21/grote-rondleiding-buitenplaats-doornburgh-27875</a> || Tijdens de grote rondleiding ontdek je de verschillende monumenten op onze buitenplaats aan de Vecht. De rondleider neemt je mee door de geschiedenis van de buitenplaats tot het heden. Je bezoekt het voormalige klooster uit de jaren ’60 en het 18e-eeuwse hoofdhuis van Doornburgh wordt speciaal voor deze rondleiding geopend.

De buitenplaats bestaat uit een park, ontworpen door J.D. Zocher. Hier bevinden zich diverse rijksmonumenten, zoals een smeedijzeren hekwerk uit 1725 aan de Vechtzijde, een 19e-eeuwse ijskelder en de priorij uit 1966 in de stijl van de Bossche School. Wekelijks zijn er rondleidingen door de priorij, maar alleen tijdens deze grote rondleiding bezoek je ook het 18e-eeuwse hoofdhuis.

Tickets: https://tickets.buitenplaatsdoornburgh.nl/nl/groterondleiding/tickets
DESCRIPTION:<a href='/stichtsevecht/agenda/2021/11/21/grote-rondleiding-buitenplaats-doornburgh-27875'>/stichtsevecht/agenda/2021/11/21/grote-rondleiding-buitenplaats-doornburgh-27875</a> || Tijdens de grote rondleiding ontdek je de verschillende monumenten op onze buitenplaats aan de Vecht. De rondleider neemt je mee door de geschiedenis van de buitenplaats tot het heden. Je bezoekt het voormalige klooster uit de jaren ’60 en het 18e-eeuwse hoofdhuis van Doornburgh wordt speciaal voor deze rondleiding geopend.

De buitenplaats bestaat uit een park, ontworpen door J.D. Zocher. Hier bevinden zich diverse rijksmonumenten, zoals een smeedijzeren hekwerk uit 1725 aan de Vechtzijde, een 19e-eeuwse ijskelder en de priorij uit 1966 in de stijl van de Bossche School. Wekelijks zijn er rondleidingen door de priorij, maar alleen tijdens deze grote rondleiding bezoek je ook het 18e-eeuwse hoofdhuis.

Tickets: https://tickets.buitenplaatsdoornburgh.nl/nl/groterondleiding/tickets
LAST-MODIFIED:20260424T164819Z
LOCATION: Buitenplaats Doornburgh | Diependaalsedijk 17 Maarssen
SEQUENCE:0
STATUS:CONFIRMED
SUMMARY:Grote rondleiding Buitenplaats Doornburgh
TRANSP:OPAQUE
END:VEVENT
END:VCALENDAR
