BEGIN:VCALENDAR
PRODID:-//PUBBLE//agenda//NL
VERSION:2.0
METHOD:PUBLISH
BEGIN:VEVENT
DTSTART:20240421T100000Z
DTEND:20240421T150000Z
DTSTAMP:20260424T163222Z
UID:8864b8bd-35cc-4985-a6ff-fd14d26ac6d3
CREATED:20260424T163222Z
NAME:Spirituele Beurs in het Dorpshuis Maarssen varnws.nl
X-WR-CALNAME:Spirituele Beurs in het Dorpshuis Maarssen
X-ALT-DESC;FMTTYPE=text/html:<a href='/stichtsevecht/agenda/2024/4/21/spirituele-beurs-in-het-dorpshuis-maarssen-42764'>/stichtsevecht/agenda/2024/4/21/spirituele-beurs-in-het-dorpshuis-maarssen-42764</a> || <p>Spiritueel Centrum Uw Gids organiseert een beurs op zondag 21 april in het &nbsp;gebouw De Vondel gelegen aan de Vondelstraat 51 3601 EX Maarssen.</p><p>Openingstijden zijn van 12.00 uur tot 17.00 uur</p><p>Entree is € 3,50</p><p>U betaalt voor een consult € 10,00.</p><p>Let op! Graag contante betalingen: er is geen pinautomaat aanwezig!</p><p>Voor meer informatie kunt u appen: 06-19173238</p>
DESCRIPTION:<a href='/stichtsevecht/agenda/2024/4/21/spirituele-beurs-in-het-dorpshuis-maarssen-42764'>/stichtsevecht/agenda/2024/4/21/spirituele-beurs-in-het-dorpshuis-maarssen-42764</a> || <p>Spiritueel Centrum Uw Gids organiseert een beurs op zondag 21 april in het &nbsp;gebouw De Vondel gelegen aan de Vondelstraat 51 3601 EX Maarssen.</p><p>Openingstijden zijn van 12.00 uur tot 17.00 uur</p><p>Entree is € 3,50</p><p>U betaalt voor een consult € 10,00.</p><p>Let op! Graag contante betalingen: er is geen pinautomaat aanwezig!</p><p>Voor meer informatie kunt u appen: 06-19173238</p>
LAST-MODIFIED:20260424T163222Z
LOCATION: De Vondel | Vondelstraat 51 Maarssen
SEQUENCE:0
STATUS:CONFIRMED
SUMMARY:Spirituele Beurs in het Dorpshuis Maarssen
TRANSP:OPAQUE
END:VEVENT
END:VCALENDAR
