BEGIN:VCALENDAR
PRODID:-//PUBBLE//agenda//NL
VERSION:2.0
METHOD:PUBLISH
BEGIN:VEVENT
DTSTART:20251005T120000Z
DTEND:20251005T133000Z
DTSTAMP:20260421T181951Z
UID:7981c0c9-121f-4ab2-83c2-3268bd93c3fd
CREATED:20260421T181951Z
NAME:Paddenstoelenexcursie Over-Holland varnws.nl
X-WR-CALNAME:Paddenstoelenexcursie Over-Holland
X-ALT-DESC;FMTTYPE=text/html:<a href='/stichtsevecht/agenda/2025/10/5/paddenstoelenexcursie-over-holland-51394'>/stichtsevecht/agenda/2025/10/5/paddenstoelenexcursie-over-holland-51394</a> || <p>Het parkbos Over-Holland is de voormalige overtuin van het landgoed Over-Holland tussen Breukelen en Nieuwersluis. Het park kent een rijke geschiedenis met bijzondere eigenaren. Het is nu een aantrekkelijk wandelgebied met mooie lanen, paden, waterlopen, bomen en struiken en met een aantal parkelementen van kort na aanleg. Natuurgidsen van IVN Vecht en Plassen neemt u op zondag 5 oktober mee om u de rijkdom aan paddenstoelen te laten zien. Misschien ontdekken we rodekoolzwammen, varkensoortjes of narcisridderzwammen. In ongeveer anderhalf uur wandelt u met een gids over doorgaans goed begaanbare paden. Bij de excursie is geen aparte kindergids, maar kinderen zijn natuurlijk welkom.</p><p>We hopen op mooi herfstweer!</p><p>Datum en tijd: zondag 5 oktober van 14.00 – 15.30 uur</p><p>Locatie: Rijksstraatweg 5, Nieuwersluis</p><p>Parkeren: Kom op de fiets! Er is slechts beperkte ruimte op het parkeerterreintje bij de zwartgeteerde werkschuur. Advies met de auto: parkeren op de Vrijheidslaan te Breukelen en vervolgens 12-15 minuten lopen naar de ingang van het park.&nbsp;</p><p>Kosten: geen, een vrijwillige bijdrage wordt op prijs gesteld (contant of via QR-code)</p><p>Informatie en aanmelden (verplicht): paddenstoelen@ivnvechtplassen.nl</p><p>IVN Natuureducatie laat jong en oud beleven hoe belangrijk, gezond en bijzonder natuur is. Meer informatie is te vinden op de website&nbsp;https://www.ivn.nl/afdeling/vecht-en-plassengebied.</p><p>U kunt het IVN steunen met een vrijwillige bijdrage en/of door lid te worden van de vereniging.&nbsp;</p>
DESCRIPTION:<a href='/stichtsevecht/agenda/2025/10/5/paddenstoelenexcursie-over-holland-51394'>/stichtsevecht/agenda/2025/10/5/paddenstoelenexcursie-over-holland-51394</a> || <p>Het parkbos Over-Holland is de voormalige overtuin van het landgoed Over-Holland tussen Breukelen en Nieuwersluis. Het park kent een rijke geschiedenis met bijzondere eigenaren. Het is nu een aantrekkelijk wandelgebied met mooie lanen, paden, waterlopen, bomen en struiken en met een aantal parkelementen van kort na aanleg. Natuurgidsen van IVN Vecht en Plassen neemt u op zondag 5 oktober mee om u de rijkdom aan paddenstoelen te laten zien. Misschien ontdekken we rodekoolzwammen, varkensoortjes of narcisridderzwammen. In ongeveer anderhalf uur wandelt u met een gids over doorgaans goed begaanbare paden. Bij de excursie is geen aparte kindergids, maar kinderen zijn natuurlijk welkom.</p><p>We hopen op mooi herfstweer!</p><p>Datum en tijd: zondag 5 oktober van 14.00 – 15.30 uur</p><p>Locatie: Rijksstraatweg 5, Nieuwersluis</p><p>Parkeren: Kom op de fiets! Er is slechts beperkte ruimte op het parkeerterreintje bij de zwartgeteerde werkschuur. Advies met de auto: parkeren op de Vrijheidslaan te Breukelen en vervolgens 12-15 minuten lopen naar de ingang van het park.&nbsp;</p><p>Kosten: geen, een vrijwillige bijdrage wordt op prijs gesteld (contant of via QR-code)</p><p>Informatie en aanmelden (verplicht): paddenstoelen@ivnvechtplassen.nl</p><p>IVN Natuureducatie laat jong en oud beleven hoe belangrijk, gezond en bijzonder natuur is. Meer informatie is te vinden op de website&nbsp;https://www.ivn.nl/afdeling/vecht-en-plassengebied.</p><p>U kunt het IVN steunen met een vrijwillige bijdrage en/of door lid te worden van de vereniging.&nbsp;</p>
LAST-MODIFIED:20260421T181951Z
LOCATION: landgoed Over Holland | Rijksstraatweg 5 Nieuwersluis
SEQUENCE:0
STATUS:CONFIRMED
SUMMARY:Paddenstoelenexcursie Over-Holland
TRANSP:OPAQUE
END:VEVENT
END:VCALENDAR
