BEGIN:VCALENDAR
PRODID:-//PUBBLE//agenda//NL
VERSION:2.0
METHOD:PUBLISH
BEGIN:VEVENT
DTSTART:20251221T170000Z
DTEND:20251221T203000Z
DTSTAMP:20260419T194912Z
UID:2d43b22f-7798-49d7-bbee-87438103a4d6
CREATED:20260419T194912Z
NAME:Volkskerstzang in de Ark varnws.nl
X-WR-CALNAME:Volkskerstzang in de Ark
X-ALT-DESC;FMTTYPE=text/html:<a href='/stichtsevecht/agenda/2025/12/21/volkskerstzang-in-de-ark-53082'>/stichtsevecht/agenda/2025/12/21/volkskerstzang-in-de-ark-53082</a> || <p>Al meer dan 30 jaar wordt er een volkskerst zangdienst gehouden in kerkcentrum de Ark in Maarssenbroek. Op zondagavond 21 december, aanvang19.00 uur kunnen &nbsp;jongeren en ouderen de bekende kerstliederen meezingen in een volle kerk waarbij muzikale ondersteuning wordt verleend door de fanfare SDG uit Tienhoven. Ds. Jan Wolswinkel zal een korte overdenking verzorgen met als titel: “De Vredevorst heeft de tussenmuur weggebroken’’. Na afloop staat de warme chocolademelk klaar. De toegang is gratis. Verdere informatie vindt u op www.arkgemeente.nl</p>
DESCRIPTION:<a href='/stichtsevecht/agenda/2025/12/21/volkskerstzang-in-de-ark-53082'>/stichtsevecht/agenda/2025/12/21/volkskerstzang-in-de-ark-53082</a> || <p>Al meer dan 30 jaar wordt er een volkskerst zangdienst gehouden in kerkcentrum de Ark in Maarssenbroek. Op zondagavond 21 december, aanvang19.00 uur kunnen &nbsp;jongeren en ouderen de bekende kerstliederen meezingen in een volle kerk waarbij muzikale ondersteuning wordt verleend door de fanfare SDG uit Tienhoven. Ds. Jan Wolswinkel zal een korte overdenking verzorgen met als titel: “De Vredevorst heeft de tussenmuur weggebroken’’. Na afloop staat de warme chocolademelk klaar. De toegang is gratis. Verdere informatie vindt u op www.arkgemeente.nl</p>
LAST-MODIFIED:20260419T194912Z
LOCATION: Kerkcentrum de Ark | Duivenkamp 844 Maarssen
SEQUENCE:0
STATUS:CONFIRMED
SUMMARY:Volkskerstzang in de Ark
TRANSP:OPAQUE
END:VEVENT
END:VCALENDAR
