BEGIN:VCALENDAR
PRODID:-//PUBBLE//agenda//NL
VERSION:2.0
METHOD:PUBLISH
BEGIN:VEVENT
DTSTART:20260401T120000Z
DTEND:20260501T140000Z
DTSTAMP:20260424T165928Z
UID:6a335ad0-a8ae-44ce-a3d3-31c75e3915bf
CREATED:20260424T165928Z
NAME:Vaarexcursie in natuurgebied de Molenpolder varnws.nl
X-WR-CALNAME:Vaarexcursie in natuurgebied de Molenpolder
X-ALT-DESC;FMTTYPE=text/html:<a href='/stichtsevecht/agenda/2026/4/1/vaarexcursie-in-natuurgebied-de-molenpolder-54757'>/stichtsevecht/agenda/2026/4/1/vaarexcursie-in-natuurgebied-de-molenpolder-54757</a> || <p>Vaar met de gids van Staatsbosbeheer door de Molenpolder, een klein natuurgebied vlak boven Utrecht, en geniet van de rust en de stilte van de natuur. In een fluisterboot ontdek je de rijke historie van dit oude veengebied. Speur samen met de gids naar de dieren en planten in dit gebied, zoals ringslang, purperreiger en zonnedauw, en loop onderweg een stukje op het “drijvend land”. Een bijzondere ervaring!&nbsp;</p><p>Reserveren is verplicht. Koop je tickets online op: </p><p>https://www.staatsbosbeheer.nl/uit-in-de-natuur/varen-langs-het-drijvend-land-van-de-molenpolder. De kosten bedragen € 13,50 voor volwassenen en € 7,50 voor kinderen t/m 12 jaar.&nbsp;</p><p>Deze excursie is ook met een eigen groep te boeken (maximaal 11 personen). Neem hiervoor contact op met excursiesutrechtwest@staatsbosbeheer.nl.</p>
DESCRIPTION:<a href='/stichtsevecht/agenda/2026/4/1/vaarexcursie-in-natuurgebied-de-molenpolder-54757'>/stichtsevecht/agenda/2026/4/1/vaarexcursie-in-natuurgebied-de-molenpolder-54757</a> || <p>Vaar met de gids van Staatsbosbeheer door de Molenpolder, een klein natuurgebied vlak boven Utrecht, en geniet van de rust en de stilte van de natuur. In een fluisterboot ontdek je de rijke historie van dit oude veengebied. Speur samen met de gids naar de dieren en planten in dit gebied, zoals ringslang, purperreiger en zonnedauw, en loop onderweg een stukje op het “drijvend land”. Een bijzondere ervaring!&nbsp;</p><p>Reserveren is verplicht. Koop je tickets online op: </p><p>https://www.staatsbosbeheer.nl/uit-in-de-natuur/varen-langs-het-drijvend-land-van-de-molenpolder. De kosten bedragen € 13,50 voor volwassenen en € 7,50 voor kinderen t/m 12 jaar.&nbsp;</p><p>Deze excursie is ook met een eigen groep te boeken (maximaal 11 personen). Neem hiervoor contact op met excursiesutrechtwest@staatsbosbeheer.nl.</p>
LAST-MODIFIED:20260424T165928Z
LOCATION: Werkschuur Staatsbosbeheer | Westbroekse Binnenweg 5 Tienhoven
SEQUENCE:0
STATUS:CONFIRMED
SUMMARY:Vaarexcursie in natuurgebied de Molenpolder
TRANSP:OPAQUE
END:VEVENT
END:VCALENDAR
