BEGIN:VCALENDAR
PRODID:-//PUBBLE//agenda//NL
VERSION:2.0
METHOD:PUBLISH
BEGIN:VEVENT
DTSTART:20260420T083000Z
DTEND:20260506T133000Z
DTSTAMP:20260420T032252Z
UID:996f310e-4ea4-43de-ab39-f612bf8529bb
CREATED:20260420T032252Z
NAME:De Biebfabriek in de meivakantie varnws.nl
X-WR-CALNAME:De Biebfabriek in de meivakantie
X-ALT-DESC;FMTTYPE=text/html:<a href='/stichtsevecht/agenda/2026/4/20/de-biebfabriek-in-de-meivakantie-54880'>/stichtsevecht/agenda/2026/4/20/de-biebfabriek-in-de-meivakantie-54880</a> || <p>BiebFabriek in de meivakantie</p><p>In workshops van de BiebFabriek kunnen kinderen van alles ontdekken, onderzoeken en experimenteren.&nbsp;</p><p>Aantal workshops uitgelicht:</p><p>Jo! Spit je eigen rap</p><p>Tijdens deze BiebFabriek workshop ga je aan de slag met rapper Ido. Hij vertelt hoe het is om hiphop artiest te zijn en leert je stap voor stap hoe je zelf een sterke rap schrijft. Je ontdekt hoe je rijmt, hoe je een goede flow maakt en hoe je jouw verhaal in een tekst zet. Wat wil jij vertellen? Je oefent samen, probeert verschillende ritmes uit en werkt aan je performance (geschikt voor 9-12 jaar).</p><p>Waar: in De Bibliotheek Maarssenbroek op 29 april&nbsp;</p><p>Word stemacteur in je eigen hoorspel</p><p>Hoe klinkt een vogel die wegvliegt? En hoe maak je voetstappen in de sneeuw? In deze workshop ontdek je hoe leuk het is om met stem en geluid een verhaal tot leven te brengen. Door samen te spelen en goed naar elkaar te luisteren ontstaat stap voor stap een echt hoorspel (geschikt voor 9-12 jaar).</p><p>Waar: in de Bibliotheek Breukelen op 20 april&nbsp;</p><p>Bouw je eigen bibberbeestje</p><p>Bibberbeestjes zijn superleuke minirobotjes die je helemaal zelf in elkaar knutselt! Lange poortjes, korte pootjes, veel kleurtjes of juist helemaal basic, het kan allemaal. Na de workshop mag je jouw robot mee naar huis nemen. (geschikt voor 7-12 jaar)<br>Waar: in de Bibliotheek Maarssendorp op 22 april en in de Bibliotheek Kockengen op 6 mei&nbsp;</p><p>Meer info en aanmelden<br>Alle activiteiten van de BiebFabriek zijn gratis en je hoeft geen lid te zijn van de Bibliotheek. Wel graag vooraf aanmelden, er is maar beperkt plaats. Kijk voor alle activiteiten van de BiebFabriek in de meivakantie op www.bibliotheekuv.nl/biebfabriek.</p>
DESCRIPTION:<a href='/stichtsevecht/agenda/2026/4/20/de-biebfabriek-in-de-meivakantie-54880'>/stichtsevecht/agenda/2026/4/20/de-biebfabriek-in-de-meivakantie-54880</a> || <p>BiebFabriek in de meivakantie</p><p>In workshops van de BiebFabriek kunnen kinderen van alles ontdekken, onderzoeken en experimenteren.&nbsp;</p><p>Aantal workshops uitgelicht:</p><p>Jo! Spit je eigen rap</p><p>Tijdens deze BiebFabriek workshop ga je aan de slag met rapper Ido. Hij vertelt hoe het is om hiphop artiest te zijn en leert je stap voor stap hoe je zelf een sterke rap schrijft. Je ontdekt hoe je rijmt, hoe je een goede flow maakt en hoe je jouw verhaal in een tekst zet. Wat wil jij vertellen? Je oefent samen, probeert verschillende ritmes uit en werkt aan je performance (geschikt voor 9-12 jaar).</p><p>Waar: in De Bibliotheek Maarssenbroek op 29 april&nbsp;</p><p>Word stemacteur in je eigen hoorspel</p><p>Hoe klinkt een vogel die wegvliegt? En hoe maak je voetstappen in de sneeuw? In deze workshop ontdek je hoe leuk het is om met stem en geluid een verhaal tot leven te brengen. Door samen te spelen en goed naar elkaar te luisteren ontstaat stap voor stap een echt hoorspel (geschikt voor 9-12 jaar).</p><p>Waar: in de Bibliotheek Breukelen op 20 april&nbsp;</p><p>Bouw je eigen bibberbeestje</p><p>Bibberbeestjes zijn superleuke minirobotjes die je helemaal zelf in elkaar knutselt! Lange poortjes, korte pootjes, veel kleurtjes of juist helemaal basic, het kan allemaal. Na de workshop mag je jouw robot mee naar huis nemen. (geschikt voor 7-12 jaar)<br>Waar: in de Bibliotheek Maarssendorp op 22 april en in de Bibliotheek Kockengen op 6 mei&nbsp;</p><p>Meer info en aanmelden<br>Alle activiteiten van de BiebFabriek zijn gratis en je hoeft geen lid te zijn van de Bibliotheek. Wel graag vooraf aanmelden, er is maar beperkt plaats. Kijk voor alle activiteiten van de BiebFabriek in de meivakantie op www.bibliotheekuv.nl/biebfabriek.</p>
LAST-MODIFIED:20260420T032252Z
LOCATION: De Bibliotheek |   Maarssen
SEQUENCE:0
STATUS:CONFIRMED
SUMMARY:De Biebfabriek in de meivakantie
TRANSP:OPAQUE
END:VEVENT
END:VCALENDAR
