BEGIN:VCALENDAR
PRODID:-//PUBBLE//agenda//NL
VERSION:2.0
METHOD:PUBLISH
BEGIN:VEVENT
DTSTART:20260530T080000Z
DTEND:20260530T140000Z
DTSTAMP:20260424T165206Z
UID:b70ca792-5eae-4394-a01b-93a2c99e2f4f
CREATED:20260424T165206Z
NAME:Mini Pasar (Aziatische Markt) Maluku Maarssen varnws.nl
X-WR-CALNAME:Mini Pasar (Aziatische Markt) Maluku Maarssen
X-ALT-DESC;FMTTYPE=text/html:<a href='/stichtsevecht/agenda/2026/5/30/mini-pasar-aziatische-markt-maluku-maarssen-55068'>/stichtsevecht/agenda/2026/5/30/mini-pasar-aziatische-markt-maluku-maarssen-55068</a> || <p>Kom gezellig langs bij onze Mini Pasar!
Een kleinschalig Aziatische markt vol heerlijk eten, drankjes, kleding, producten, allerlei hebbedingetjes, etc.</p><p>Laat je verrassen door de smaken, geuren en kleurrijke kraampjes. Of je nu wilt proeven, rondkijken of gewoon gezellig wilt langskomen. Iedereen is welkom!</p>
DESCRIPTION:<a href='/stichtsevecht/agenda/2026/5/30/mini-pasar-aziatische-markt-maluku-maarssen-55068'>/stichtsevecht/agenda/2026/5/30/mini-pasar-aziatische-markt-maluku-maarssen-55068</a> || <p>Kom gezellig langs bij onze Mini Pasar!
Een kleinschalig Aziatische markt vol heerlijk eten, drankjes, kleding, producten, allerlei hebbedingetjes, etc.</p><p>Laat je verrassen door de smaken, geuren en kleurrijke kraampjes. Of je nu wilt proeven, rondkijken of gewoon gezellig wilt langskomen. Iedereen is welkom!</p>
LAST-MODIFIED:20260424T165206Z
LOCATION: Dorpshuis Maarssen | Vondelstraat 51 Maarssen
SEQUENCE:0
STATUS:CONFIRMED
SUMMARY:Mini Pasar (Aziatische Markt) Maluku Maarssen
TRANSP:OPAQUE
END:VEVENT
END:VCALENDAR
