BEGIN:VCALENDAR
PRODID:-//PUBBLE//agenda//NL
VERSION:2.0
METHOD:PUBLISH
BEGIN:VEVENT
DTSTART:20260421T183000Z
DTEND:20260421T203000Z
DTSTAMP:20260421T033714Z
UID:ee8ce9f1-3609-49dd-9162-89b0ac81751b
CREATED:20260421T033714Z
NAME:Utrechts Jazz Orkest met Denise Jannah op Doornburgh varnws.nl
X-WR-CALNAME:Utrechts Jazz Orkest met Denise Jannah op Doornburgh
X-ALT-DESC;FMTTYPE=text/html:<a href='/stichtsevecht/agenda/2026/4/21/utrechts-jazz-orkest-met-denise-jannah-op-doornburgh-55078'>/stichtsevecht/agenda/2026/4/21/utrechts-jazz-orkest-met-denise-jannah-op-doornburgh-55078</a> || <p>Het Utrechts Jazz Orkest (UJO) is opgericht in 1967 en is daarmee één van de oudste bigbands in Nederland. De 17-koppige bigband is een veelzijdig orkest, met een breed repertoire van swing, latin en moderne bigband arrangementen. Het UJO behoort tot de top van de Nederlandse amateur orkesten en heeft al vele solisten mogen begeleiden. Op dinsdagavond 21 april verwelkomen we het UJO weer op de buitenplaats, deze keer samen met Denise Jannah.&nbsp;</p><p>Tweevoudig Edison winnares Denise Jannah is naast vocaliste ook actrice, componiste, tekstschrijfster, theater coach en zangpedagoge. Zij stond op podia in 31 landen en bracht tot nu toe 11 albums uit waarvan 1 (vinyl) in samenwerking met pianiste Atzko Kohashi (Japan), en vorig jaar het album ‘Waning Moon’, in samenwerking met pianist Yannic Forster en zijn trio (Denise schreef alle teksten voor zijn composities). Denise is stilistisch zeer veelzijdig en beweegt zich met gemak in Jazz, Gospel, Latin, R&amp;B, Pop en Wereldmuziek.</p><p>Aanvang concert: 20:30 uur</p><p>Nog specialer wordt deze dinsdagavond als u vooraf gebruik maakt van ‘de daghap’ van onze chef. Vanaf 19:00 uur neemt u dan plaats aan uw ‘eigen tafel’ in de Refter. Het aantal plaatsen hiervoor is beperkt. Wacht daarom niet te lang met de aankoop van uw tickets.</p><p><a href="https://www.buitenplaatsdoornburgh.nl/agenda/utrechts-jazz-orkest-denise-jannah/" target="_blank">https://www.buitenplaatsdoornburgh.nl/agenda/utrechts-jazz-orkest-denise-jannah/</a></p>
DESCRIPTION:<a href='/stichtsevecht/agenda/2026/4/21/utrechts-jazz-orkest-met-denise-jannah-op-doornburgh-55078'>/stichtsevecht/agenda/2026/4/21/utrechts-jazz-orkest-met-denise-jannah-op-doornburgh-55078</a> || <p>Het Utrechts Jazz Orkest (UJO) is opgericht in 1967 en is daarmee één van de oudste bigbands in Nederland. De 17-koppige bigband is een veelzijdig orkest, met een breed repertoire van swing, latin en moderne bigband arrangementen. Het UJO behoort tot de top van de Nederlandse amateur orkesten en heeft al vele solisten mogen begeleiden. Op dinsdagavond 21 april verwelkomen we het UJO weer op de buitenplaats, deze keer samen met Denise Jannah.&nbsp;</p><p>Tweevoudig Edison winnares Denise Jannah is naast vocaliste ook actrice, componiste, tekstschrijfster, theater coach en zangpedagoge. Zij stond op podia in 31 landen en bracht tot nu toe 11 albums uit waarvan 1 (vinyl) in samenwerking met pianiste Atzko Kohashi (Japan), en vorig jaar het album ‘Waning Moon’, in samenwerking met pianist Yannic Forster en zijn trio (Denise schreef alle teksten voor zijn composities). Denise is stilistisch zeer veelzijdig en beweegt zich met gemak in Jazz, Gospel, Latin, R&amp;B, Pop en Wereldmuziek.</p><p>Aanvang concert: 20:30 uur</p><p>Nog specialer wordt deze dinsdagavond als u vooraf gebruik maakt van ‘de daghap’ van onze chef. Vanaf 19:00 uur neemt u dan plaats aan uw ‘eigen tafel’ in de Refter. Het aantal plaatsen hiervoor is beperkt. Wacht daarom niet te lang met de aankoop van uw tickets.</p><p><a href="https://www.buitenplaatsdoornburgh.nl/agenda/utrechts-jazz-orkest-denise-jannah/" target="_blank">https://www.buitenplaatsdoornburgh.nl/agenda/utrechts-jazz-orkest-denise-jannah/</a></p>
LAST-MODIFIED:20260421T033714Z
LOCATION: Buitenplaats Doornburgh | Diependaalsedijk 17 Maarssen
SEQUENCE:0
STATUS:CONFIRMED
SUMMARY:Utrechts Jazz Orkest met Denise Jannah op Doornburgh
TRANSP:OPAQUE
END:VEVENT
END:VCALENDAR
