BEGIN:VCALENDAR
PRODID:-//PUBBLE//agenda//NL
VERSION:2.0
METHOD:PUBLISH
BEGIN:VEVENT
DTSTART:20260504T080000Z
DTEND:20260531T130000Z
DTSTAMP:20260424T194658Z
UID:d8db4cf9-48d9-4ea7-ab57-e8f03844c697
CREATED:20260424T194658Z
NAME:Expositie “4 seizoenen langs de Vecht” varnws.nl
X-WR-CALNAME:Expositie “4 seizoenen langs de Vecht”
X-ALT-DESC;FMTTYPE=text/html:<a href='/stichtsevecht/agenda/2026/5/4/expositie-4-seizoenen-langs-de-vecht--55092'>/stichtsevecht/agenda/2026/5/4/expositie-4-seizoenen-langs-de-vecht--55092</a> || <p>Expositie “4 seizoenen langs de Vecht”</p><p>Maarssen, 12 april – Op maandag 4 mei opent de expositie&nbsp;“4 seizoenen langs de Vecht”&nbsp;van fotograaf Jos van den Berg en kunstschilder Martine van Lieshout.</p><p>De tentoonstelling brengt het karakteristieke landschap langs de Vecht in beeld, verdeeld over de vier seizoenen. In de expositie komen fotografie en schilderkunst samen: waar de camera het moment vastlegt, vertaalt het schilderij dezelfde omgeving in kleur, sfeer en interpretatie. Zo ontstaat een dialoog tussen beeld en verbeelding, het oog ontmoet de hand.</p><p>De expositie is gedurende de maand mei te zien in het Dorpshuis. Omdat er ook andere activiteiten in het gebouw plaatsvinden, wordt bezoekers geadviseerd vooraf de agenda van het Dorpshuis te raadplegen.</p><p>De toegang is vrij. Openingstijden zijn maandag en woensdag tot en met vrijdag van 10.00 tot 17.00 uur.</p>
DESCRIPTION:<a href='/stichtsevecht/agenda/2026/5/4/expositie-4-seizoenen-langs-de-vecht--55092'>/stichtsevecht/agenda/2026/5/4/expositie-4-seizoenen-langs-de-vecht--55092</a> || <p>Expositie “4 seizoenen langs de Vecht”</p><p>Maarssen, 12 april – Op maandag 4 mei opent de expositie&nbsp;“4 seizoenen langs de Vecht”&nbsp;van fotograaf Jos van den Berg en kunstschilder Martine van Lieshout.</p><p>De tentoonstelling brengt het karakteristieke landschap langs de Vecht in beeld, verdeeld over de vier seizoenen. In de expositie komen fotografie en schilderkunst samen: waar de camera het moment vastlegt, vertaalt het schilderij dezelfde omgeving in kleur, sfeer en interpretatie. Zo ontstaat een dialoog tussen beeld en verbeelding, het oog ontmoet de hand.</p><p>De expositie is gedurende de maand mei te zien in het Dorpshuis. Omdat er ook andere activiteiten in het gebouw plaatsvinden, wordt bezoekers geadviseerd vooraf de agenda van het Dorpshuis te raadplegen.</p><p>De toegang is vrij. Openingstijden zijn maandag en woensdag tot en met vrijdag van 10.00 tot 17.00 uur.</p>
LAST-MODIFIED:20260424T194658Z
LOCATION: Dorpshuis Maarssen | Vondelstraat 51 Maarssen
SEQUENCE:0
STATUS:CONFIRMED
SUMMARY:Expositie “4 seizoenen langs de Vecht”
TRANSP:OPAQUE
END:VEVENT
END:VCALENDAR
