BEGIN:VCALENDAR
PRODID:-//PUBBLE//agenda//NL
VERSION:2.0
METHOD:PUBLISH
BEGIN:VEVENT
DTSTART:20260421T173000Z
DTEND:20260521T200000Z
DTSTAMP:20260421T033714Z
UID:b91918a5-a539-4525-b60d-4022fc0eed4c
CREATED:20260421T033714Z
NAME:Workshop | Upcycle ´Blouse´ | Week van tweedehands textiel varnws.nl
X-WR-CALNAME:Workshop | Upcycle ´Blouse´ | Week van tweedehands textiel
X-ALT-DESC;FMTTYPE=text/html:<a href='/stichtsevecht/agenda/2026/4/21/workshop-upcycle-blouse-week-van-tweedehands-textiel-55113'>/stichtsevecht/agenda/2026/4/21/workshop-upcycle-blouse-week-van-tweedehands-textiel-55113</a> || <p>Er belanden nog steeds veel spullen in de prullenbak die je eigenlijk prima kunt repareren. Zonde, toch? Ons doel: repareren de norm maken. Dat doen we door te laten zien hoe makkelijk én leuk repareren kan zijn. Zo bouwen we met elkaar aan een wereld waarin spullen langer meegaan. </p><p>In deze workshop leer je van Nanoushka stap voor stap hoe je een oude blouse een nieuw leven inblaast! Ervaring met naald en draad is niet nodig.&nbsp;</p><p>Belangrijk om zelf mee te nemen: een blouse/overhemd die wil je wilt aanpassen/repareren!&nbsp;</p><p>In het MEC in samenwerking Nanouska Jansen Meedoen is gratis, meld je aan via deze link: https://buff.ly/7eloE9k </p>
DESCRIPTION:<a href='/stichtsevecht/agenda/2026/4/21/workshop-upcycle-blouse-week-van-tweedehands-textiel-55113'>/stichtsevecht/agenda/2026/4/21/workshop-upcycle-blouse-week-van-tweedehands-textiel-55113</a> || <p>Er belanden nog steeds veel spullen in de prullenbak die je eigenlijk prima kunt repareren. Zonde, toch? Ons doel: repareren de norm maken. Dat doen we door te laten zien hoe makkelijk én leuk repareren kan zijn. Zo bouwen we met elkaar aan een wereld waarin spullen langer meegaan. </p><p>In deze workshop leer je van Nanoushka stap voor stap hoe je een oude blouse een nieuw leven inblaast! Ervaring met naald en draad is niet nodig.&nbsp;</p><p>Belangrijk om zelf mee te nemen: een blouse/overhemd die wil je wilt aanpassen/repareren!&nbsp;</p><p>In het MEC in samenwerking Nanouska Jansen Meedoen is gratis, meld je aan via deze link: https://buff.ly/7eloE9k </p>
LAST-MODIFIED:20260421T033714Z
LOCATION: MEC Maarssen | Reigerskamp 197 Maarssen
SEQUENCE:0
STATUS:CONFIRMED
SUMMARY:Workshop | Upcycle ´Blouse´ | Week van tweedehands textiel
TRANSP:OPAQUE
END:VEVENT
END:VCALENDAR
