BEGIN:VCALENDAR
PRODID:-//PUBBLE//agenda//NL
VERSION:2.0
METHOD:PUBLISH
BEGIN:VEVENT
DTSTART:20260425T083000Z
DTEND:20260425T100000Z
DTSTAMP:20260424T055747Z
UID:e1dd1d97-db7e-4668-8ce2-5f9b2744de3a
CREATED:20260424T055747Z
NAME:Open ochtend Logeerhuis Bredius varnws.nl
X-WR-CALNAME:Open ochtend Logeerhuis Bredius
X-ALT-DESC;FMTTYPE=text/html:<a href='/stichtsevecht/agenda/2026/4/25/open-ochtend-logeerhuis-bredius-55171'>/stichtsevecht/agenda/2026/4/25/open-ochtend-logeerhuis-bredius-55171</a> || <p>Open ochtend Logeerhuis Bredius, zaterdag 25 april 2026 van&nbsp;10.30- 12.00 uur.&nbsp;Park Oudeland 74,&nbsp;Woerden</p><p>Elke laatste zaterdag van de maand opent Logeerhuis Bredius de deuren voor belangstellenden. U wordt ontvangen met koffie/thee met wat lekkers, er is de mogelijkheid het Logeerhuis te bekijken en volop informatie te krijgen. Het kan helpen mensen te stimuleren alvast te gaan kijken en niet te wachten tot de mantelzorger omvalt. Preventief gebruik maken van logeerzorg is bewezen effectief tegen overbelasting bij mantelzorgers en voorkomt crisissituaties en acute uitplaatsing naar een verpleeghuis. En het houdt mantelzorgers gezonder. Ook mensen die misschien vrijwilliger willen worden zijn van harte uitgenodigd.&nbsp;</p><p>www.logeerhuisbredius.nl</p>
DESCRIPTION:<a href='/stichtsevecht/agenda/2026/4/25/open-ochtend-logeerhuis-bredius-55171'>/stichtsevecht/agenda/2026/4/25/open-ochtend-logeerhuis-bredius-55171</a> || <p>Open ochtend Logeerhuis Bredius, zaterdag 25 april 2026 van&nbsp;10.30- 12.00 uur.&nbsp;Park Oudeland 74,&nbsp;Woerden</p><p>Elke laatste zaterdag van de maand opent Logeerhuis Bredius de deuren voor belangstellenden. U wordt ontvangen met koffie/thee met wat lekkers, er is de mogelijkheid het Logeerhuis te bekijken en volop informatie te krijgen. Het kan helpen mensen te stimuleren alvast te gaan kijken en niet te wachten tot de mantelzorger omvalt. Preventief gebruik maken van logeerzorg is bewezen effectief tegen overbelasting bij mantelzorgers en voorkomt crisissituaties en acute uitplaatsing naar een verpleeghuis. En het houdt mantelzorgers gezonder. Ook mensen die misschien vrijwilliger willen worden zijn van harte uitgenodigd.&nbsp;</p><p>www.logeerhuisbredius.nl</p>
LAST-MODIFIED:20260424T055747Z
LOCATION: Logeerhuis Bredius | Park Oudeland  74 Woerden
SEQUENCE:0
STATUS:CONFIRMED
SUMMARY:Open ochtend Logeerhuis Bredius
TRANSP:OPAQUE
END:VEVENT
END:VCALENDAR
