BEGIN:VCALENDAR
PRODID:-//PUBBLE//agenda//NL
VERSION:2.0
METHOD:PUBLISH
BEGIN:VEVENT
DTSTART:20260426T083000Z
DTEND:20260426T153000Z
DTSTAMP:20260426T032855Z
UID:56493402-2f8d-4b00-9f4b-0f3b0b3a3b1a
CREATED:20260426T032855Z
NAME:FORT ZON DAG April varnws.nl
X-WR-CALNAME:FORT ZON DAG April
X-ALT-DESC;FMTTYPE=text/html:<a href='/stichtsevecht/agenda/2026/4/26/fort-zon-dag-april-55187'>/stichtsevecht/agenda/2026/4/26/fort-zon-dag-april-55187</a> || <p>Elke laatste zondag van de maand openen we de deuren voor culturele activiteiten. Met bijvoorbeeld een optreden van Loeki. De opening van de nieuwe expositie van Kitty Goudzwaard . Daarnaast gaan we creatief aan de slag in het open atelier<br><br></p><p><strong>11.00 Café open</strong></p><p>Start de dag met een heerlijke lungo, cappuccino of trendy latte machiatto. Liever thee? Wat dacht je van verse munt of gemberthee.</p><p><strong>11.00 Live pianomuziek</strong></p><p>Elke zondagochtend laat onze huispianist Gerard zijn vingers weer over het ivoor gaan. Geniet van prachtige pianomuziek en heerlijke koffie. Misschien trakteer je jezelf ook wel op een gebakje.</p><p><strong>1200 Opening expositie</strong>  <br>Tekenkunst met en zonder vleugels: het dierenrijk van Kitty Goudswaard</p><p><strong>13.00 &nbsp;Open Atelier - &nbsp;Schuif gratis aan!</strong></p><p>Elke FORT ZON DAG open atelier. We laten ons inspireren door de omgeving van het Fort. En dan gaan we met verschillend materiaal aan de slag. Geen opdracht maar vrijblijvend creatief. Sluit gezellig aan!&nbsp;</p><p>We zorgen voor wat voorbeelden en inspiratie.</p><p>Doe je mee? Van 1300 – 15.00 uur!</p><p>Koffie en thee betaal jezelf, gebruik van papier en dergelijke is kosteloos.</p><p><strong>14.00 rondleiding Ontdek het Fort!</strong><br>Onder leiding van een van onze Fortwachters. Meld je aan op de website</p><p><strong>15.30 &nbsp;Live muziek Loeki </strong></p><p><strong>17.30 Laatste ronde</strong><br>De eindtijd is afhankelijk van het weer en de activiteiten. Bij genoeg gezelligheid en goed weer blijven we langer open.</p>
DESCRIPTION:<a href='/stichtsevecht/agenda/2026/4/26/fort-zon-dag-april-55187'>/stichtsevecht/agenda/2026/4/26/fort-zon-dag-april-55187</a> || <p>Elke laatste zondag van de maand openen we de deuren voor culturele activiteiten. Met bijvoorbeeld een optreden van Loeki. De opening van de nieuwe expositie van Kitty Goudzwaard . Daarnaast gaan we creatief aan de slag in het open atelier<br><br></p><p><strong>11.00 Café open</strong></p><p>Start de dag met een heerlijke lungo, cappuccino of trendy latte machiatto. Liever thee? Wat dacht je van verse munt of gemberthee.</p><p><strong>11.00 Live pianomuziek</strong></p><p>Elke zondagochtend laat onze huispianist Gerard zijn vingers weer over het ivoor gaan. Geniet van prachtige pianomuziek en heerlijke koffie. Misschien trakteer je jezelf ook wel op een gebakje.</p><p><strong>1200 Opening expositie</strong>  <br>Tekenkunst met en zonder vleugels: het dierenrijk van Kitty Goudswaard</p><p><strong>13.00 &nbsp;Open Atelier - &nbsp;Schuif gratis aan!</strong></p><p>Elke FORT ZON DAG open atelier. We laten ons inspireren door de omgeving van het Fort. En dan gaan we met verschillend materiaal aan de slag. Geen opdracht maar vrijblijvend creatief. Sluit gezellig aan!&nbsp;</p><p>We zorgen voor wat voorbeelden en inspiratie.</p><p>Doe je mee? Van 1300 – 15.00 uur!</p><p>Koffie en thee betaal jezelf, gebruik van papier en dergelijke is kosteloos.</p><p><strong>14.00 rondleiding Ontdek het Fort!</strong><br>Onder leiding van een van onze Fortwachters. Meld je aan op de website</p><p><strong>15.30 &nbsp;Live muziek Loeki </strong></p><p><strong>17.30 Laatste ronde</strong><br>De eindtijd is afhankelijk van het weer en de activiteiten. Bij genoeg gezelligheid en goed weer blijven we langer open.</p>
LAST-MODIFIED:20260426T032855Z
LOCATION: Fort Maarsseveen | Herenweg 3 Maarssen
SEQUENCE:0
STATUS:CONFIRMED
SUMMARY:FORT ZON DAG April
TRANSP:OPAQUE
END:VEVENT
END:VCALENDAR
