BEGIN:VCALENDAR
PRODID:-//PUBBLE//agenda//NL
VERSION:2.0
METHOD:PUBLISH
BEGIN:VEVENT
DTSTART:20260424T120000Z
DTEND:20260424T140000Z
DTSTAMP:20260424T030528Z
UID:21a1cfc8-c680-4f84-b9b5-ed76ed61ee43
CREATED:20260424T030528Z
NAME:Handwerken doe je samen varnws.nl
X-WR-CALNAME:Handwerken doe je samen
X-ALT-DESC;FMTTYPE=text/html:<a href='/stichtsevecht/agenda/2026/4/24/handwerken-doe-je-samen-55188'>/stichtsevecht/agenda/2026/4/24/handwerken-doe-je-samen-55188</a> || <p>Iedere vrijdagmiddag van 14:00 tot 16:00 is er inloop bij handwerkwinkel Dirk &amp; Doortje. Heb je een vraag over het project waarmee je bezig bent of heb je gewoon zin om samen te handwerken? Kom gezellig langs. Wij zorgen voor de koffie, thee en iets lekkers. De kosten bedragen €5,- per keer, aanmelding is niet nodig</p>
DESCRIPTION:<a href='/stichtsevecht/agenda/2026/4/24/handwerken-doe-je-samen-55188'>/stichtsevecht/agenda/2026/4/24/handwerken-doe-je-samen-55188</a> || <p>Iedere vrijdagmiddag van 14:00 tot 16:00 is er inloop bij handwerkwinkel Dirk &amp; Doortje. Heb je een vraag over het project waarmee je bezig bent of heb je gewoon zin om samen te handwerken? Kom gezellig langs. Wij zorgen voor de koffie, thee en iets lekkers. De kosten bedragen €5,- per keer, aanmelding is niet nodig</p>
LAST-MODIFIED:20260424T030528Z
LOCATION: Handwerkwinkel Dirk & Doortje | Kaatsbaan 30 Maarssen
SEQUENCE:0
STATUS:CONFIRMED
SUMMARY:Handwerken doe je samen
TRANSP:OPAQUE
END:VEVENT
END:VCALENDAR
