BEGIN:VCALENDAR
PRODID:-//PUBBLE//agenda//NL
VERSION:2.0
METHOD:PUBLISH
BEGIN:VEVENT
DTSTART:20260428T090000Z
DTEND:20260430T150000Z
DTSTAMP:20260421T163115Z
UID:7925f58a-266f-4050-8bae-c34e043831a8
CREATED:20260421T163115Z
NAME:NIEUW: Het Grote Vogelavontuur op Slot Zuylen! Speuren, muziek maken, luisteren, knutselen én smullen! varnws.nl
X-WR-CALNAME:NIEUW: Het Grote Vogelavontuur op Slot Zuylen! Speuren, muziek maken, luisteren, knutselen én smullen!
X-ALT-DESC;FMTTYPE=text/html:<a href='/stichtsevecht/agenda/2026/4/28/nieuw-het-grote-vogelavontuur-op-slot-zuylen-speuren-muziek-maken-luisteren-knutselen-en-smullen--55190'>/stichtsevecht/agenda/2026/4/28/nieuw-het-grote-vogelavontuur-op-slot-zuylen-speuren-muziek-maken-luisteren-knutselen-en-smullen--55190</a> || <p><strong>🐦 🐦 NIEUW: Het Grote Vogelavontuur op Slot Zuylen!</strong></p><p>&nbsp; &nbsp; &nbsp; &nbsp; &nbsp; &nbsp; <em>Speuren, muziek maken, luisteren, knutselen én smullen!</em></p><p><strong>Een spiksplinternieuw kinderavontuur bij Slot Zuylen! Kom in de meivakantie met het hele gezin naar Slot Zuylen en beleef het Grote Vogelavontuur. Een kasteel vol gefladder, muziek, verhalen, knutsels en lekkers.</strong></p><p>Door het hele kasteel en in de tuin speur je naar kleurrijke vogels.</p><p>In het kasteel beleef je verhalen over de betoverende wereld van de vogels op Slot Zuylen.&nbsp;</p><p>In de Gobelinzaal klinkt vrolijke vogelmuziek – en mag je zelf meespelen!&nbsp;</p><p>Smullen in het koetshuis</p><p>Na al die belevenissen is het tijd voor een feestelijke afsluiting. In het café in het koetshuis genieten de kinderen van een heerlijke pannenkoek die ze zelf mogen versieren. Daarnaast kunnen ze hun fantasie laten fladderen en hun eigen unieke kasteelvogel knutselen.</p><p><strong>Praktische informatie</strong></p><p>Data: 28-29-30 april 2026 (meivakantie)</p><p>Leeftijd: vanaf ca 4 jaar</p><p><strong>Wat houdt het vogelavontuur in?</strong></p><p>🐦 Vogel-speurtocht: speur naar de vogels van de baron in het hele kasteel en de kasteeltuinen. 🎵 Muziek: speel tussen 11.15 en 12.45 uur mee in het vogelconcert in de Gobelinzaal.&nbsp;</p><p>📖 Verhaal: luister tussen 11.30 tot 13.30 uur naar een vogelverhaal in het kasteel.</p><p>🏰 Knutselen: maak je eigen kasteelvogel op de Hooizolder van het Koetshuis. 🥞 Pannenkoek met een drankje: relax en smul van een lekkere lunch in het Koetshuis&nbsp;</p><p>Je kunt de speurtocht starten én van de pannenkoek smullen op elk gewenst moment tussen 11.00 en 16.00 uur. Wil je zeker zijn van muziek en verhalen? Start je avontuur dan vóór 12.30 uur.</p><p>Er zijn meerdere begintijden beschikbaar, daarop kun je je melden bij de winkel van het kasteel om te beginnen.</p><p><strong>Tickets</strong></p><p>Het complete vogeluitje kost €13 per kind. Kinderen met een Museumjaarkaart krijgen €2 korting (kaart meenemen en laten scannen).</p><p>Let op:</p><p>Het vogelavontuur (inclusief pannenkoek e.d.) is uitsluitend bedoeld voor kinderen.</p><p>Volwassenen hebben een regulier toegangsticket nodig (Museumkaart, Vriendenloterijkaart en ICOM gratis toegang) en kunnen zelf iets bestellen in het koetshuis.</p><p>🎟️ <strong><em>Bestel snel je tickets</em></strong>! 👉 Je tickets bestel je hier: https://slotzuylen.nl/agenda/het-grote-vogelavontuur/2026-04-28/</p>
DESCRIPTION:<a href='/stichtsevecht/agenda/2026/4/28/nieuw-het-grote-vogelavontuur-op-slot-zuylen-speuren-muziek-maken-luisteren-knutselen-en-smullen--55190'>/stichtsevecht/agenda/2026/4/28/nieuw-het-grote-vogelavontuur-op-slot-zuylen-speuren-muziek-maken-luisteren-knutselen-en-smullen--55190</a> || <p><strong>🐦 🐦 NIEUW: Het Grote Vogelavontuur op Slot Zuylen!</strong></p><p>&nbsp; &nbsp; &nbsp; &nbsp; &nbsp; &nbsp; <em>Speuren, muziek maken, luisteren, knutselen én smullen!</em></p><p><strong>Een spiksplinternieuw kinderavontuur bij Slot Zuylen! Kom in de meivakantie met het hele gezin naar Slot Zuylen en beleef het Grote Vogelavontuur. Een kasteel vol gefladder, muziek, verhalen, knutsels en lekkers.</strong></p><p>Door het hele kasteel en in de tuin speur je naar kleurrijke vogels.</p><p>In het kasteel beleef je verhalen over de betoverende wereld van de vogels op Slot Zuylen.&nbsp;</p><p>In de Gobelinzaal klinkt vrolijke vogelmuziek – en mag je zelf meespelen!&nbsp;</p><p>Smullen in het koetshuis</p><p>Na al die belevenissen is het tijd voor een feestelijke afsluiting. In het café in het koetshuis genieten de kinderen van een heerlijke pannenkoek die ze zelf mogen versieren. Daarnaast kunnen ze hun fantasie laten fladderen en hun eigen unieke kasteelvogel knutselen.</p><p><strong>Praktische informatie</strong></p><p>Data: 28-29-30 april 2026 (meivakantie)</p><p>Leeftijd: vanaf ca 4 jaar</p><p><strong>Wat houdt het vogelavontuur in?</strong></p><p>🐦 Vogel-speurtocht: speur naar de vogels van de baron in het hele kasteel en de kasteeltuinen. 🎵 Muziek: speel tussen 11.15 en 12.45 uur mee in het vogelconcert in de Gobelinzaal.&nbsp;</p><p>📖 Verhaal: luister tussen 11.30 tot 13.30 uur naar een vogelverhaal in het kasteel.</p><p>🏰 Knutselen: maak je eigen kasteelvogel op de Hooizolder van het Koetshuis. 🥞 Pannenkoek met een drankje: relax en smul van een lekkere lunch in het Koetshuis&nbsp;</p><p>Je kunt de speurtocht starten én van de pannenkoek smullen op elk gewenst moment tussen 11.00 en 16.00 uur. Wil je zeker zijn van muziek en verhalen? Start je avontuur dan vóór 12.30 uur.</p><p>Er zijn meerdere begintijden beschikbaar, daarop kun je je melden bij de winkel van het kasteel om te beginnen.</p><p><strong>Tickets</strong></p><p>Het complete vogeluitje kost €13 per kind. Kinderen met een Museumjaarkaart krijgen €2 korting (kaart meenemen en laten scannen).</p><p>Let op:</p><p>Het vogelavontuur (inclusief pannenkoek e.d.) is uitsluitend bedoeld voor kinderen.</p><p>Volwassenen hebben een regulier toegangsticket nodig (Museumkaart, Vriendenloterijkaart en ICOM gratis toegang) en kunnen zelf iets bestellen in het koetshuis.</p><p>🎟️ <strong><em>Bestel snel je tickets</em></strong>! 👉 Je tickets bestel je hier: https://slotzuylen.nl/agenda/het-grote-vogelavontuur/2026-04-28/</p>
LAST-MODIFIED:20260421T163115Z
LOCATION: Museum Slot Zuylen | Tournooiveld 1 Oud Zuilen
SEQUENCE:0
STATUS:CONFIRMED
SUMMARY:NIEUW: Het Grote Vogelavontuur op Slot Zuylen! Speuren, muziek maken, luisteren, knutselen én smullen!
TRANSP:OPAQUE
END:VEVENT
END:VCALENDAR
