BEGIN:VCALENDAR
PRODID:-//PUBBLE//agenda//NL
VERSION:2.0
METHOD:PUBLISH
BEGIN:VEVENT
DTSTART:20260426T054500Z
DTEND:20260426T064500Z
DTSTAMP:20260426T032855Z
UID:c2b677ad-56ce-4e0a-ba11-99cf1bd3b3e5
CREATED:20260426T032855Z
NAME:OERRR vogelexcursie op landgoed Haarzuilens varnws.nl
X-WR-CALNAME:OERRR vogelexcursie op landgoed Haarzuilens
X-ALT-DESC;FMTTYPE=text/html:<a href='/leidscherijn/agenda/2026/4/26/oerrr-vogelexcursie-op-landgoed-haarzuilens-55236'>/leidscherijn/agenda/2026/4/26/oerrr-vogelexcursie-op-landgoed-haarzuilens-55236</a> || <p><strong>OERRR vogelexcursie op landgoed Haarzuilens</strong></p><p>Op landgoed Haarzuilens wonen veel vogels. Je ziet ze misschien niet altijd, maar we kunnen ze meestal wel goed horen. Wandel mee met de boswachter van OERRR en leer welke vogels hier leven, waar ze hun nest maken of wat ze eten. Misschien zien we wel een heel bijzondere vogel; je weet maar nooit!</p><p><strong><br></strong></p><p><strong>Ga mee met deze unieke OERRR vogelexcursie!&nbsp;</strong></p><p>De excursie is vooral geschikt voor kinderen in de leeftijd van 9 tot 12 jaar en start op tijd. Vroeg uit de veren dus! De excursie duurt ongeveer een uur met een uitloop van een kwartier. Per kind mag maximaal één ouder mee.</p><p><strong>Koop nu je ticket</strong> via <a data-fr-linked="true" href="//www.natuurmonumenten.nl/provincies/utrecht/agenda/kinderen/oerrr-vogelexcursie-op-landgoed-haarzuilens#2026-04-26T07:45">www.natuurmonumenten.nl/provincies/utrecht/agenda/kinderen/oerrr-vogelexcursie-op-landgoed-haarzuilens#2026-04-26T07:45</a>.</p><p>Normaal:€ 6,50 Ledenprijs:€ 4,55 </p>
DESCRIPTION:<a href='/leidscherijn/agenda/2026/4/26/oerrr-vogelexcursie-op-landgoed-haarzuilens-55236'>/leidscherijn/agenda/2026/4/26/oerrr-vogelexcursie-op-landgoed-haarzuilens-55236</a> || <p><strong>OERRR vogelexcursie op landgoed Haarzuilens</strong></p><p>Op landgoed Haarzuilens wonen veel vogels. Je ziet ze misschien niet altijd, maar we kunnen ze meestal wel goed horen. Wandel mee met de boswachter van OERRR en leer welke vogels hier leven, waar ze hun nest maken of wat ze eten. Misschien zien we wel een heel bijzondere vogel; je weet maar nooit!</p><p><strong><br></strong></p><p><strong>Ga mee met deze unieke OERRR vogelexcursie!&nbsp;</strong></p><p>De excursie is vooral geschikt voor kinderen in de leeftijd van 9 tot 12 jaar en start op tijd. Vroeg uit de veren dus! De excursie duurt ongeveer een uur met een uitloop van een kwartier. Per kind mag maximaal één ouder mee.</p><p><strong>Koop nu je ticket</strong> via <a data-fr-linked="true" href="//www.natuurmonumenten.nl/provincies/utrecht/agenda/kinderen/oerrr-vogelexcursie-op-landgoed-haarzuilens#2026-04-26T07:45">www.natuurmonumenten.nl/provincies/utrecht/agenda/kinderen/oerrr-vogelexcursie-op-landgoed-haarzuilens#2026-04-26T07:45</a>.</p><p>Normaal:€ 6,50 Ledenprijs:€ 4,55 </p>
LAST-MODIFIED:20260426T032855Z
LOCATION: Hoeve Wielrevelt | Thematerweg 10c Haarzuilens
SEQUENCE:0
STATUS:CONFIRMED
SUMMARY:OERRR vogelexcursie op landgoed Haarzuilens
TRANSP:OPAQUE
END:VEVENT
END:VCALENDAR
