BEGIN:VCALENDAR
PRODID:-//PUBBLE//agenda//NL
VERSION:2.0
METHOD:PUBLISH
BEGIN:VEVENT
DTSTART:20260524T130000Z
DTEND:20260524T150000Z
DTSTAMP:20260425T184532Z
UID:a60e646c-a78d-41d4-bd08-4bc89783615f
CREATED:20260425T184532Z
NAME:Live muziek op de zondagmiddag varnws.nl
X-WR-CALNAME:Live muziek op de zondagmiddag
X-ALT-DESC;FMTTYPE=text/html:<a href='/stichtsevecht/agenda/2026/5/24/live-muziek-op-de-zondagmiddag-55250'>/stichtsevecht/agenda/2026/5/24/live-muziek-op-de-zondagmiddag-55250</a> || <p>Op deze zondag treedt Lemonaki op in het brugwachtershuisje. Lemonaki &nbsp;neemt de luisteraars mee op een muzikale reis &nbsp;door Europa. Langs Griekse tavernes; liederen over de ruwe kant van het leven: drugs, de gevangenis, een zwaar bestaan… Maar ook over schoonheid: de liefde, vertellingen van duizend en één nacht.</p><p>Kom luisteren: we hebben twintig stoelen en bij mooi weer gaat het raam open zodat u ook wachtend voor de brug kunt genieten van de muziek...</p>
DESCRIPTION:<a href='/stichtsevecht/agenda/2026/5/24/live-muziek-op-de-zondagmiddag-55250'>/stichtsevecht/agenda/2026/5/24/live-muziek-op-de-zondagmiddag-55250</a> || <p>Op deze zondag treedt Lemonaki op in het brugwachtershuisje. Lemonaki &nbsp;neemt de luisteraars mee op een muzikale reis &nbsp;door Europa. Langs Griekse tavernes; liederen over de ruwe kant van het leven: drugs, de gevangenis, een zwaar bestaan… Maar ook over schoonheid: de liefde, vertellingen van duizend en één nacht.</p><p>Kom luisteren: we hebben twintig stoelen en bij mooi weer gaat het raam open zodat u ook wachtend voor de brug kunt genieten van de muziek...</p>
LAST-MODIFIED:20260425T184532Z
LOCATION: Brugwachtershuisje  | Breedstraat 2 Maarssen
SEQUENCE:0
STATUS:CONFIRMED
SUMMARY:Live muziek op de zondagmiddag
TRANSP:OPAQUE
END:VEVENT
END:VCALENDAR
