BEGIN:VCALENDAR
PRODID:-//PUBBLE//agenda//NL
VERSION:2.0
METHOD:PUBLISH
BEGIN:VEVENT
DTSTART:20260513T161500Z
DTEND:20260617T174500Z
DTSTAMP:20260423T152131Z
UID:e23b7589-3153-4ff9-8b68-a6ac82b40c13
CREATED:20260423T152131Z
NAME:Doe mee met het KunstAtelier voor jongeren (12-18 jaar)! varnws.nl
X-WR-CALNAME:Doe mee met het KunstAtelier voor jongeren (12-18 jaar)!
X-ALT-DESC;FMTTYPE=text/html:<a href='/stichtsevecht/agenda/2026/5/13/doe-mee-met-het-kunstatelier-voor-jongeren-12-18-jaar--55254'>/stichtsevecht/agenda/2026/5/13/doe-mee-met-het-kunstatelier-voor-jongeren-12-18-jaar--55254</a> || <p>Vanaf 13 mei opent de Talent Academy het KunstAtelier voor jongeren. Ga aan de slag met schilderen, tekenen of zelfs street art en illustratie. Onder begeleiding van Kunstdocent Bente ontdek jij de kunstenaar in jezelf.</p><p><strong>Data:&nbsp;</strong>Woensdag 13, 20, 27 mei, 3, 10, 17 juni ’26</p><p><strong>Tijd:&nbsp;</strong>18.15 – 19.45 uur</p><p><strong>Locatie:</strong> Schippersgracht 6, Maarssen-Dorp</p><p><strong>Kosten:&nbsp;</strong>€ 75 voor 6 lessen</p><p>Schrijf je in via de website: https://detalentacademy.nl/product/kunstatelier-maarssen/</p>
DESCRIPTION:<a href='/stichtsevecht/agenda/2026/5/13/doe-mee-met-het-kunstatelier-voor-jongeren-12-18-jaar--55254'>/stichtsevecht/agenda/2026/5/13/doe-mee-met-het-kunstatelier-voor-jongeren-12-18-jaar--55254</a> || <p>Vanaf 13 mei opent de Talent Academy het KunstAtelier voor jongeren. Ga aan de slag met schilderen, tekenen of zelfs street art en illustratie. Onder begeleiding van Kunstdocent Bente ontdek jij de kunstenaar in jezelf.</p><p><strong>Data:&nbsp;</strong>Woensdag 13, 20, 27 mei, 3, 10, 17 juni ’26</p><p><strong>Tijd:&nbsp;</strong>18.15 – 19.45 uur</p><p><strong>Locatie:</strong> Schippersgracht 6, Maarssen-Dorp</p><p><strong>Kosten:&nbsp;</strong>€ 75 voor 6 lessen</p><p>Schrijf je in via de website: https://detalentacademy.nl/product/kunstatelier-maarssen/</p>
LAST-MODIFIED:20260423T152131Z
LOCATION: de Talent Academy | Diependaalsedijk 17 Maarssen
SEQUENCE:0
STATUS:CONFIRMED
SUMMARY:Doe mee met het KunstAtelier voor jongeren (12-18 jaar)!
TRANSP:OPAQUE
END:VEVENT
END:VCALENDAR
