BEGIN:VCALENDAR
PRODID:-//PUBBLE//agenda//NL
VERSION:2.0
METHOD:PUBLISH
BEGIN:VEVENT
DTSTART:20260614T130000Z
DTEND:20260614T150000Z
DTSTAMP:20260425T152040Z
UID:ded88b90-8433-4eab-9f81-b1ed9b9ec0dd
CREATED:20260425T152040Z
NAME:Live muziek op de zondagmiddag varnws.nl
X-WR-CALNAME:Live muziek op de zondagmiddag
X-ALT-DESC;FMTTYPE=text/html:<a href='/stichtsevecht/agenda/2026/6/14/live-muziek-op-de-zondagmiddag-55255'>/stichtsevecht/agenda/2026/6/14/live-muziek-op-de-zondagmiddag-55255</a> || <p>Kom luisteren naar een optreden van Julia Mulder (gitaar en zang) en Mick van der Molen (gitaar). Julia’s zachte en meeslepende stemgeluid ontroert meteen en neemt je mee met kleine liedjes over heel gewone dingen naar haar persoonlijke wereld. Onder begeleiding van gitarist Mick ontvouwt zich een prachtig klankbedje van jong talent.</p>
DESCRIPTION:<a href='/stichtsevecht/agenda/2026/6/14/live-muziek-op-de-zondagmiddag-55255'>/stichtsevecht/agenda/2026/6/14/live-muziek-op-de-zondagmiddag-55255</a> || <p>Kom luisteren naar een optreden van Julia Mulder (gitaar en zang) en Mick van der Molen (gitaar). Julia’s zachte en meeslepende stemgeluid ontroert meteen en neemt je mee met kleine liedjes over heel gewone dingen naar haar persoonlijke wereld. Onder begeleiding van gitarist Mick ontvouwt zich een prachtig klankbedje van jong talent.</p>
LAST-MODIFIED:20260425T152040Z
LOCATION: Brugwachtershuisje  | Breedstraat 2 Maarssen
SEQUENCE:0
STATUS:CONFIRMED
SUMMARY:Live muziek op de zondagmiddag
TRANSP:OPAQUE
END:VEVENT
END:VCALENDAR
