BEGIN:VCALENDAR
PRODID:-//PUBBLE//agenda//NL
VERSION:2.0
METHOD:PUBLISH
BEGIN:VEVENT
DTSTART:20260720T080000Z
DTEND:20260723T150000Z
DTSTAMP:20260423T182957Z
UID:60b15c9d-6b31-4220-8e68-0d802f3a36c5
CREATED:20260423T182957Z
NAME:Musical Alice in Wonderland: Speel mee of maak het decor! varnws.nl
X-WR-CALNAME:Musical Alice in Wonderland: Speel mee of maak het decor!
X-ALT-DESC;FMTTYPE=text/html:<a href='/stichtsevecht/agenda/2026/7/20/musical-alice-in-wonderland-speel-mee-of-maak-het-decor--55256'>/stichtsevecht/agenda/2026/7/20/musical-alice-in-wonderland-speel-mee-of-maak-het-decor--55256</a> || <p><strong>In de eerste week van de zomervakantie is de Talent Academy weer op Fort Maarsseveen tijdens de Musical Summer Academy en het ZomerAtelier, voor kinderen van 7-12 jaar.</strong></p><p><strong>Musical Summer Academy</strong></p><p>Tijdens deze leuke week duik je samen met een team van Musicalprofessionals in de wereld van Dans, Zang en Theater en eindig je het avontuur met een spetterende Musical. De Musical- en Danscoaches begeleiden de groepen en maken samen met de deelnemers de spetterende Musical Alice in Wonderland, compleet met zang, dans, spel, grime en kostuums.</p><p><strong>ZomerAtelier</strong></p><p>Tijdens het ZomerAtelier staat jouw werk staat straks óp het podium! Dit jaar combineren we het ZomerAtelier namelijk met de Musical Summer Academy. Terwijl de spelers repeteren, werk jij aan het decor van de voorstelling. We duiken samen in de wereld van Alice in Wonderland en bouwen aan een kleurrijk, fantasierijk decor.</p><p><strong>Data:&nbsp;</strong>20, 21, 22 &amp; 23 juli 2026</p><p><strong>Tijd:</strong> 10.00-15.00/17.00</p><p><strong>Locatie:&nbsp;</strong>Fort Maarsseveen</p><p>Op donderdag komt alles samen en wordt de voorstelling gespeeld voor publiek, compleet met kostuums, grime en het decor!</p><p>Schrijf je nu in voor deze leuke zomerweek via de website: <a href="https://detalentacademy.nl/lesaanbod/zomer-specials/" target="_blank">https://detalentacademy.nl/lesaanbod/zomer-specials/</a>&nbsp;</p>
DESCRIPTION:<a href='/stichtsevecht/agenda/2026/7/20/musical-alice-in-wonderland-speel-mee-of-maak-het-decor--55256'>/stichtsevecht/agenda/2026/7/20/musical-alice-in-wonderland-speel-mee-of-maak-het-decor--55256</a> || <p><strong>In de eerste week van de zomervakantie is de Talent Academy weer op Fort Maarsseveen tijdens de Musical Summer Academy en het ZomerAtelier, voor kinderen van 7-12 jaar.</strong></p><p><strong>Musical Summer Academy</strong></p><p>Tijdens deze leuke week duik je samen met een team van Musicalprofessionals in de wereld van Dans, Zang en Theater en eindig je het avontuur met een spetterende Musical. De Musical- en Danscoaches begeleiden de groepen en maken samen met de deelnemers de spetterende Musical Alice in Wonderland, compleet met zang, dans, spel, grime en kostuums.</p><p><strong>ZomerAtelier</strong></p><p>Tijdens het ZomerAtelier staat jouw werk staat straks óp het podium! Dit jaar combineren we het ZomerAtelier namelijk met de Musical Summer Academy. Terwijl de spelers repeteren, werk jij aan het decor van de voorstelling. We duiken samen in de wereld van Alice in Wonderland en bouwen aan een kleurrijk, fantasierijk decor.</p><p><strong>Data:&nbsp;</strong>20, 21, 22 &amp; 23 juli 2026</p><p><strong>Tijd:</strong> 10.00-15.00/17.00</p><p><strong>Locatie:&nbsp;</strong>Fort Maarsseveen</p><p>Op donderdag komt alles samen en wordt de voorstelling gespeeld voor publiek, compleet met kostuums, grime en het decor!</p><p>Schrijf je nu in voor deze leuke zomerweek via de website: <a href="https://detalentacademy.nl/lesaanbod/zomer-specials/" target="_blank">https://detalentacademy.nl/lesaanbod/zomer-specials/</a>&nbsp;</p>
LAST-MODIFIED:20260423T182957Z
LOCATION: de Talent Academy | Diependaalsedijk 17 Maarssen
SEQUENCE:0
STATUS:CONFIRMED
SUMMARY:Musical Alice in Wonderland: Speel mee of maak het decor!
TRANSP:OPAQUE
END:VEVENT
END:VCALENDAR
