BEGIN:VCALENDAR
PRODID:-//PUBBLE//agenda//NL
VERSION:2.0
METHOD:PUBLISH
BEGIN:VEVENT
DTSTART:20260601T131500Z
DTEND:20260701T163000Z
DTSTAMP:20260423T152405Z
UID:e9bd7e06-12ac-4fa9-a927-93f8b859b87d
CREATED:20260423T152405Z
NAME:Juni Academy: Doe je mee met Film, Musical of Kunst lessen? varnws.nl
X-WR-CALNAME:Juni Academy: Doe je mee met Film, Musical of Kunst lessen?
X-ALT-DESC;FMTTYPE=text/html:<a href='/stichtsevecht/agenda/2026/6/1/juni-academy-doe-je-mee-met-film-musical-of-kunst-lessen--55257'>/stichtsevecht/agenda/2026/6/1/juni-academy-doe-je-mee-met-film-musical-of-kunst-lessen--55257</a> || <p>Ben jij een podiumbeest, houd je van verhalen, van samen spelen en publiek? Of ben jij die creatieveling die het liefst met de handen werkt, de mooiste dingen kan verzinnen of juist zoveel mogelijk wil ontdekken en leren van allerlei materialen en kunstvormen? Geef je dan snel op voor een les naar keuze bij de Talent Academy en kom in juni een kort blok kennismaken met de Theaterschool, KunstAtelier of Musical Academy. Ervaring is niet nodig. </p><p><strong>Musical Academy</strong></p><p>Maandag: 8, 15, 22, 29 juni</p><p>15.15-16.00 uur (4-6 jaar)</p><p>16.00-17.00 uur (7-12 jaar)</p><p><strong>KunstAtelier</strong></p><p>Woensdag: 10, 17, 24 jun, 1 jul</p><p>15.15 – 16.00 uur (4-6 jaar)</p><p>16.15 – 17.45 uur (7-12 jaar)</p><p>18.15-19.45 uur (12-18 jaar: 13, 20, 27 mei, 3, 10, 17 juni)</p><p><strong>Theaterschool / Film-Lab</strong></p><p>Donderdag: 4, 11, 18 juni</p><p>17.00 – 18.30 uur (11-18 jaar)</p><p>Schrijf je in via de website: https://detalentacademy.nl/product/juni-academy/</p>
DESCRIPTION:<a href='/stichtsevecht/agenda/2026/6/1/juni-academy-doe-je-mee-met-film-musical-of-kunst-lessen--55257'>/stichtsevecht/agenda/2026/6/1/juni-academy-doe-je-mee-met-film-musical-of-kunst-lessen--55257</a> || <p>Ben jij een podiumbeest, houd je van verhalen, van samen spelen en publiek? Of ben jij die creatieveling die het liefst met de handen werkt, de mooiste dingen kan verzinnen of juist zoveel mogelijk wil ontdekken en leren van allerlei materialen en kunstvormen? Geef je dan snel op voor een les naar keuze bij de Talent Academy en kom in juni een kort blok kennismaken met de Theaterschool, KunstAtelier of Musical Academy. Ervaring is niet nodig. </p><p><strong>Musical Academy</strong></p><p>Maandag: 8, 15, 22, 29 juni</p><p>15.15-16.00 uur (4-6 jaar)</p><p>16.00-17.00 uur (7-12 jaar)</p><p><strong>KunstAtelier</strong></p><p>Woensdag: 10, 17, 24 jun, 1 jul</p><p>15.15 – 16.00 uur (4-6 jaar)</p><p>16.15 – 17.45 uur (7-12 jaar)</p><p>18.15-19.45 uur (12-18 jaar: 13, 20, 27 mei, 3, 10, 17 juni)</p><p><strong>Theaterschool / Film-Lab</strong></p><p>Donderdag: 4, 11, 18 juni</p><p>17.00 – 18.30 uur (11-18 jaar)</p><p>Schrijf je in via de website: https://detalentacademy.nl/product/juni-academy/</p>
LAST-MODIFIED:20260423T152405Z
LOCATION: de Talent Academy | Diependaalsedijk 17 Maarssen
SEQUENCE:0
STATUS:CONFIRMED
SUMMARY:Juni Academy: Doe je mee met Film, Musical of Kunst lessen?
TRANSP:OPAQUE
END:VEVENT
END:VCALENDAR
