BEGIN:VCALENDAR
PRODID:-//PUBBLE//agenda//NL
VERSION:2.0
METHOD:PUBLISH
BEGIN:VEVENT
DTSTART:20260426T090000Z
DTEND:20260528T153000Z
DTSTAMP:20260426T033652Z
UID:930f5695-a6b3-4767-8b27-2ab222980939
CREATED:20260426T033652Z
NAME:No Weapons, No War – buitenexpositie met witte vlaggen varnws.nl
X-WR-CALNAME:No Weapons, No War – buitenexpositie met witte vlaggen
X-ALT-DESC;FMTTYPE=text/html:<a href='/stichtsevecht/agenda/2026/4/26/no-weapons-no-war-buitenexpositie-met-witte-vlaggen-55278'>/stichtsevecht/agenda/2026/4/26/no-weapons-no-war-buitenexpositie-met-witte-vlaggen-55278</a> || <p><strong>Op Fort Maarsseveen is de buitenexpositie No Weapons, No War te zien. Kunst en poëzie komen samen in een installatie van witte vlaggen – symbool voor overgave en het einde van strijd.</strong><br><br>Kunstenaar Mandy Mienes en dichter Annet Koops nodigen, in samenwerking met Poëzie aan de Vecht, bezoekers uit om stil te staan bij deze vragen. Kunstwerken en gedichten gaan op het fort met elkaar in dialoog en creëren ruimte voor persoonlijke reflectie. De witte vlaggen vormen daarbij geen eindpunt, maar juist het begin van een gesprek.<br><br></p><p>Bezoekers worden uitgenodigd om zelf een boodschap, gedachte of wens achter te laten. Zo groeit de expositie uit tot een collectief kunstwerk over oorlog, vrede en menselijke keuzes.<br><br></p><p><strong>Opening: 26 april om 11.00 uur</strong><br>Gratis toegankelijk tijdens openingstijden van het fort<br><br>Meer informatie: https://www.fortmaarsseveen.nl/agenda</p>
DESCRIPTION:<a href='/stichtsevecht/agenda/2026/4/26/no-weapons-no-war-buitenexpositie-met-witte-vlaggen-55278'>/stichtsevecht/agenda/2026/4/26/no-weapons-no-war-buitenexpositie-met-witte-vlaggen-55278</a> || <p><strong>Op Fort Maarsseveen is de buitenexpositie No Weapons, No War te zien. Kunst en poëzie komen samen in een installatie van witte vlaggen – symbool voor overgave en het einde van strijd.</strong><br><br>Kunstenaar Mandy Mienes en dichter Annet Koops nodigen, in samenwerking met Poëzie aan de Vecht, bezoekers uit om stil te staan bij deze vragen. Kunstwerken en gedichten gaan op het fort met elkaar in dialoog en creëren ruimte voor persoonlijke reflectie. De witte vlaggen vormen daarbij geen eindpunt, maar juist het begin van een gesprek.<br><br></p><p>Bezoekers worden uitgenodigd om zelf een boodschap, gedachte of wens achter te laten. Zo groeit de expositie uit tot een collectief kunstwerk over oorlog, vrede en menselijke keuzes.<br><br></p><p><strong>Opening: 26 april om 11.00 uur</strong><br>Gratis toegankelijk tijdens openingstijden van het fort<br><br>Meer informatie: https://www.fortmaarsseveen.nl/agenda</p>
LAST-MODIFIED:20260426T033652Z
LOCATION: Fort Maarsseveen | Herenweg 3 Maarssen
SEQUENCE:0
STATUS:CONFIRMED
SUMMARY:No Weapons, No War – buitenexpositie met witte vlaggen
TRANSP:OPAQUE
END:VEVENT
END:VCALENDAR
