BEGIN:VCALENDAR
PRODID:-//PUBBLE//agenda//NL
VERSION:2.0
METHOD:PUBLISH
BEGIN:VEVENT
DTSTART:20260425T120000Z
DTEND:20260425T143000Z
DTSTAMP:20260425T032143Z
UID:0aed9540-df04-4a84-91ba-31e9c527bd13
CREATED:20260425T032143Z
NAME:(Adem)ruimte voor moeders varnws.nl
X-WR-CALNAME:(Adem)ruimte voor moeders
X-ALT-DESC;FMTTYPE=text/html:<a href='/leidscherijn/agenda/2026/4/25/-adem-ruimte-voor-moeders-55291'>/leidscherijn/agenda/2026/4/25/-adem-ruimte-voor-moeders-55291</a> || <p>Deze workshop helpt je om meer ontspanning te voelen in je lijf én in je dagelijks leven. Gun jezelf twee uur om op een rustige, eenvoudige manier kennis te maken met ademhalings- en ontspanningsoefeningen. Je hoeft geen ervaring te hebben, als je bereid bent om aan de slag te gaan met de ademhaling, kun je meedoen.</p><p>Ademen doen we de hele dag door zonder erbij na te denken. Maar juist daarin zit de magie. Met je adem kun je spanning loslaten, stress verminderen en je lichaam helpen om weer tot rust te komen. Dat gun ik elke moeder. Daarom neem ik je stap voor stap mee, zodat je zelf kunt ervaren hoeveel ruimte er ontstaat wanneer je even stopt met doorgaan en begint met bewust ademen.</p><p>We leven in een maatschappij waarin ons hoofd vaak de boventoon voert. We denken, plannen, regelen en rationaliseren de hele dag door. Daardoor raken we soms het contact kwijt met ons lichaam en onze intuïtie – precies de plek waar rust en herstel beginnen.</p><p>Waarom veel moeders een kort lontje krijgenVeel moeders denken dat ze “gewoon snel boos zijn” of dat het komt door de enorme mentale belasting (mental load) die ze dragen. Maar dat is meestal niet het hele verhaal. Een kort lontje is vaak een signaal dat je lichaam niet meer goed kan ontspannen.</p><p>Als je jarenlang maar doorgaat, je emoties wegdrukt en je lichaam continu onder spanning staat, hoeft er maar iets kleins te gebeuren – een kind dat niet luistert, een partner die iets vergeet – en boem, je ontploft. Niet omdat je dat wilt, maar omdat je systeem overvol is. En daarna komt vaak de schaamte of het schuldgevoel.Ik geloof dat je lontje pas écht langer wordt wanneer je leert je lichaam (je zenuwstelsel) te kalmeren.</p><p>Meer weten of vragen?Ik heb een coachingspraktijk in Leidsche Rijn. Ben je nieuwsgierig geworden? Op www.soul-searching.nl lees je meer.</p><p>https://www.indekerngezond.nl/activiteit/ademruimte-voor-moeders/</p>
DESCRIPTION:<a href='/leidscherijn/agenda/2026/4/25/-adem-ruimte-voor-moeders-55291'>/leidscherijn/agenda/2026/4/25/-adem-ruimte-voor-moeders-55291</a> || <p>Deze workshop helpt je om meer ontspanning te voelen in je lijf én in je dagelijks leven. Gun jezelf twee uur om op een rustige, eenvoudige manier kennis te maken met ademhalings- en ontspanningsoefeningen. Je hoeft geen ervaring te hebben, als je bereid bent om aan de slag te gaan met de ademhaling, kun je meedoen.</p><p>Ademen doen we de hele dag door zonder erbij na te denken. Maar juist daarin zit de magie. Met je adem kun je spanning loslaten, stress verminderen en je lichaam helpen om weer tot rust te komen. Dat gun ik elke moeder. Daarom neem ik je stap voor stap mee, zodat je zelf kunt ervaren hoeveel ruimte er ontstaat wanneer je even stopt met doorgaan en begint met bewust ademen.</p><p>We leven in een maatschappij waarin ons hoofd vaak de boventoon voert. We denken, plannen, regelen en rationaliseren de hele dag door. Daardoor raken we soms het contact kwijt met ons lichaam en onze intuïtie – precies de plek waar rust en herstel beginnen.</p><p>Waarom veel moeders een kort lontje krijgenVeel moeders denken dat ze “gewoon snel boos zijn” of dat het komt door de enorme mentale belasting (mental load) die ze dragen. Maar dat is meestal niet het hele verhaal. Een kort lontje is vaak een signaal dat je lichaam niet meer goed kan ontspannen.</p><p>Als je jarenlang maar doorgaat, je emoties wegdrukt en je lichaam continu onder spanning staat, hoeft er maar iets kleins te gebeuren – een kind dat niet luistert, een partner die iets vergeet – en boem, je ontploft. Niet omdat je dat wilt, maar omdat je systeem overvol is. En daarna komt vaak de schaamte of het schuldgevoel.Ik geloof dat je lontje pas écht langer wordt wanneer je leert je lichaam (je zenuwstelsel) te kalmeren.</p><p>Meer weten of vragen?Ik heb een coachingspraktijk in Leidsche Rijn. Ben je nieuwsgierig geworden? Op www.soul-searching.nl lees je meer.</p><p>https://www.indekerngezond.nl/activiteit/ademruimte-voor-moeders/</p>
LAST-MODIFIED:20260425T032143Z
LOCATION: Indekerngezond | Kopenhagenstraat 41 Utrecht
SEQUENCE:0
STATUS:CONFIRMED
SUMMARY:(Adem)ruimte voor moeders
TRANSP:OPAQUE
END:VEVENT
END:VCALENDAR
